BEGIN:VCALENDAR
PRODID:-//AT Content Types//AT Event//EN
VERSION:2.0
METHOD:PUBLISH
BEGIN:VEVENT
DTSTAMP:20260421T142245Z
CREATED:20140318T163958Z
UID:ATEvent-e7f3b4cbf729f5fe70d8e7c75944a927
LAST-MODIFIED:20140318T164331Z
SUMMARY:Halálhír
DTSTART:20140324T140000Z
DTEND:20140324T150000Z
LOCATION:Nagykeresztúr
CLASS:PUBLIC
END:VEVENT
END:VCALENDAR
