BEGIN:VCALENDAR
PRODID:-//AT Content Types//AT Event//EN
VERSION:2.0
METHOD:PUBLISH
BEGIN:VEVENT
DTSTAMP:20260421T221936Z
CREATED:20120816T054139Z
UID:ATEvent-98d2243ac8e1eee58d1fd6c785a9394c
LAST-MODIFIED:20120816T054153Z
SUMMARY:VálóHáló alkalom
DTSTART:20120806T150000Z
DTEND:20120806T170000Z
LOCATION:Csorvás\, Evangélikus templom
CLASS:PUBLIC
END:VEVENT
END:VCALENDAR
