BEGIN:VCALENDAR
PRODID:-//AT Content Types//AT Event//EN
VERSION:2.0
METHOD:PUBLISH
BEGIN:VEVENT
DTSTAMP:20260421T141917Z
CREATED:20120817T052952Z
UID:ATEvent-c591fe1595c181b1764cc6f688591304
LAST-MODIFIED:20120817T053154Z
SUMMARY:VálóHáló csorvási alkalmai\:
DTSTART:20120903T150000Z
DTEND:20120903T170000Z
DESCRIPTION:5920 Csorvás\, István király u. 19.
LOCATION:Evangélikus templom
CLASS:PUBLIC
END:VEVENT
END:VCALENDAR
